BEGIN:VCALENDAR
VERSION:2.0
PRODID:-//NADI Kg Renyuk - ECPv6.15.13.1//NONSGML v1.0//EN
CALSCALE:GREGORIAN
METHOD:PUBLISH
X-WR-CALNAME:NADI Kg Renyuk
X-ORIGINAL-URL:https://kgrenyuk.nadi.my
X-WR-CALDESC:Events for NADI Kg Renyuk
REFRESH-INTERVAL;VALUE=DURATION:PT1H
X-Robots-Tag:noindex
X-PUBLISHED-TTL:PT1H
BEGIN:VTIMEZONE
TZID:Asia/Kuala_Lumpur
BEGIN:STANDARD
TZOFFSETFROM:+0800
TZOFFSETTO:+0800
TZNAME:+08
DTSTART:20250101T000000
END:STANDARD
END:VTIMEZONE
BEGIN:VTIMEZONE
TZID:UTC
BEGIN:STANDARD
TZOFFSETFROM:+0000
TZOFFSETTO:+0000
TZNAME:UTC
DTSTART:20230101T000000
END:STANDARD
END:VTIMEZONE
BEGIN:VEVENT
DTSTART;TZID=Asia/Kuala_Lumpur:20260207T103000
DTEND;TZID=Asia/Kuala_Lumpur:20260207T143000
DTSTAMP:20260420T001105
CREATED:20260206T032340Z
LAST-MODIFIED:20260206T032340Z
UID:4261-1770460200-1770474600@kgrenyuk.nadi.my
SUMMARY:Pemeriksaan Mata Percuma
DESCRIPTION:
URL:https://kgrenyuk.nadi.my/event/pemeriksaan-mata-percuma/
LOCATION:NADI Kg Renyuk\, NADI Kg Renyuk
END:VEVENT
BEGIN:VEVENT
DTSTART;TZID=Asia/Kuala_Lumpur:20260207T090000
DTEND;TZID=Asia/Kuala_Lumpur:20260207T130000
DTSTAMP:20260420T001105
CREATED:20260203T041457Z
LAST-MODIFIED:20260203T041657Z
UID:4254-1770454800-1770469200@kgrenyuk.nadi.my
SUMMARY:𝗣𝗿𝗼𝗴𝗿𝗮𝗺 𝗣𝗿𝗼𝗺𝗼𝘀𝗶 𝗞𝗲𝘀𝗶𝗵𝗮𝘁𝗮𝗻 𝗣𝗲𝗿𝗴𝗶𝗴𝗶𝗮𝗻
DESCRIPTION:Program Promosi Kesihatan Pergigian
URL:https://kgrenyuk.nadi.my/event/%f0%9d%97%a3%f0%9d%97%bf%f0%9d%97%bc%f0%9d%97%b4%f0%9d%97%bf%f0%9d%97%ae%f0%9d%97%ba-%f0%9d%97%a3%f0%9d%97%bf%f0%9d%97%bc%f0%9d%97%ba%f0%9d%97%bc%f0%9d%98%80%f0%9d%97%b6-%f0%9d%97%9e%f0%9d%97%b2/
LOCATION:masjid kampung gemang\, kg gemang\, jeli\, 17600\, Malaysia
END:VEVENT
BEGIN:VEVENT
DTSTART;TZID=Asia/Kuala_Lumpur:20260131T100000
DTEND;TZID=Asia/Kuala_Lumpur:20260131T230000
DTSTAMP:20260420T001105
CREATED:20260121T063547Z
LAST-MODIFIED:20260121T063547Z
UID:4222-1769853600-1769900400@kgrenyuk.nadi.my
SUMMARY:SOSIAL MEDIA ALAF BARU
DESCRIPTION:
URL:https://kgrenyuk.nadi.my/event/sosial-media-alaf-baru/
LOCATION:NADI Kg Renyuk\, NADI Kg Renyuk
END:VEVENT
BEGIN:VEVENT
DTSTART;TZID=Asia/Kuala_Lumpur:20260124T150000
DTEND;TZID=Asia/Kuala_Lumpur:20260124T160000
DTSTAMP:20260420T001105
CREATED:20260121T023252Z
LAST-MODIFIED:20260121T023846Z
UID:4219-1769266800-1769270400@kgrenyuk.nadi.my
SUMMARY:ANAK DAN MEDIA SOSIAL: KENAPA UMUR 16 TAHUN ITU GARIS SELAMAT
DESCRIPTION:ANAK DAN MEDIA SOSIAL: KENAPA UMUR 16 TAHUN ITU GARIS SELAMAT
URL:https://kgrenyuk.nadi.my/event/anak-dan-media-sosial-kenapa-umur-16-tahun-itu-garis-selamat/
LOCATION:NADI Kg Renyuk\, NADI Kg Renyuk
END:VEVENT
BEGIN:VEVENT
DTSTART;TZID=Asia/Kuala_Lumpur:20260124T023000
DTEND;TZID=Asia/Kuala_Lumpur:20260124T163000
DTSTAMP:20260420T001105
CREATED:20260121T020936Z
LAST-MODIFIED:20260121T020936Z
UID:4217-1769221800-1769272200@kgrenyuk.nadi.my
SUMMARY:WEBINAR BERKALA BAHASA INGGERIS – EDISI 6
DESCRIPTION:WEBINAR BERKALA BAHASA INGGERIS – EDISI 6
URL:https://kgrenyuk.nadi.my/event/webinar-berkala-bahasa-inggeris-edisi-6/
LOCATION:NADI Kg Renyuk\, NADI Kg Renyuk
END:VEVENT
BEGIN:VEVENT
DTSTART;TZID=Asia/Kuala_Lumpur:20260122T150000
DTEND;TZID=Asia/Kuala_Lumpur:20260122T160000
DTSTAMP:20260420T001105
CREATED:20260120T092533Z
LAST-MODIFIED:20260120T092533Z
UID:4214-1769094000-1769097600@kgrenyuk.nadi.my
SUMMARY:SIRI CYBER HYGIENE (ASAS KESELAMATAN SIBER)
DESCRIPTION:SIRI CYBER HYGIENE (ASAS KESELAMATAN SIBER)
URL:https://kgrenyuk.nadi.my/event/siri-cyber-hygiene-asas-keselamatan-siber/
LOCATION:NADI Kg Renyuk\, NADI Kg Renyuk
END:VEVENT
BEGIN:VEVENT
DTSTART;TZID=Asia/Kuala_Lumpur:20260122T100000
DTEND;TZID=Asia/Kuala_Lumpur:20260122T110000
DTSTAMP:20260420T001105
CREATED:20260120T092305Z
LAST-MODIFIED:20260120T092305Z
UID:4212-1769076000-1769079600@kgrenyuk.nadi.my
SUMMARY:WEBINAR PEMASARAN DIGITAL e-kelas usahawan (Asas Komunikasi Visual)
DESCRIPTION:WEBINAR PEMASARAN DIGITAL e-kelas usahawan (Asas Komunikasi Visual)
URL:https://kgrenyuk.nadi.my/event/webinar-pemasaran-digital-e-kelas-usahawan-asas-komunikasi-visual/
LOCATION:NADI Kg Renyuk\, NADI Kg Renyuk
END:VEVENT
BEGIN:VEVENT
DTSTART;TZID=UTC:20241129T160000
DTEND;TZID=UTC:20241129T170000
DTSTAMP:20260420T001105
CREATED:20241027T202518Z
LAST-MODIFIED:20241027T202518Z
UID:3817-1732896000-1732899600@kgrenyuk.nadi.my
SUMMARY:Aktiviti Atas Talian
DESCRIPTION:
URL:https://kgrenyuk.nadi.my/event/aktiviti-atas-talian-49/
LOCATION:NADI Kg Renyuk\, NADI Kg Renyuk
CATEGORIES:DEFAULT
END:VEVENT
BEGIN:VEVENT
DTSTART;TZID=UTC:20241123T110000
DTEND;TZID=UTC:20241123T120000
DTSTAMP:20260420T001105
CREATED:20241027T202444Z
LAST-MODIFIED:20241027T202444Z
UID:3816-1732359600-1732363200@kgrenyuk.nadi.my
SUMMARY:Kuiz Atas Talian (S-A-F-E)
DESCRIPTION:
URL:https://kgrenyuk.nadi.my/event/kuiz-atas-talian-s-a-f-e/
LOCATION:NADI Kg Renyuk\, NADI Kg Renyuk
CATEGORIES:DEFAULT
END:VEVENT
BEGIN:VEVENT
DTSTART;TZID=UTC:20241122T103000
DTEND;TZID=UTC:20241122T123000
DTSTAMP:20260420T001105
CREATED:20241027T202317Z
LAST-MODIFIED:20241027T202317Z
UID:3815-1732271400-1732278600@kgrenyuk.nadi.my
SUMMARY:Mobile Legend Bang Bang
DESCRIPTION:
URL:https://kgrenyuk.nadi.my/event/mobile-legend-bang-bang-2/
LOCATION:NADI Kg Renyuk\, NADI Kg Renyuk
CATEGORIES:DEFAULT
END:VEVENT
BEGIN:VEVENT
DTSTART;TZID=UTC:20241112T163000
DTEND;TZID=UTC:20241112T173000
DTSTAMP:20260420T001105
CREATED:20241027T202233Z
LAST-MODIFIED:20241027T202233Z
UID:3814-1731429000-1731432600@kgrenyuk.nadi.my
SUMMARY:Aktiviti Atas Talian
DESCRIPTION:
URL:https://kgrenyuk.nadi.my/event/aktiviti-atas-talian-48/
LOCATION:NADI Kg Renyuk\, NADI Kg Renyuk
CATEGORIES:DEFAULT
END:VEVENT
BEGIN:VEVENT
DTSTART;TZID=UTC:20241109T150000
DTEND;TZID=UTC:20241109T170000
DTSTAMP:20260420T001105
CREATED:20241027T201738Z
LAST-MODIFIED:20241027T201738Z
UID:3813-1731164400-1731171600@kgrenyuk.nadi.my
SUMMARY:Mobile Legend Bang Bang
DESCRIPTION:
URL:https://kgrenyuk.nadi.my/event/mobile-legend-bang-bang/
LOCATION:NADI Kg Renyuk\, NADI Kg Renyuk
CATEGORIES:DEFAULT
END:VEVENT
BEGIN:VEVENT
DTSTART;TZID=UTC:20241105T160000
DTEND;TZID=UTC:20241105T170000
DTSTAMP:20260420T001105
CREATED:20241027T201525Z
LAST-MODIFIED:20241027T201525Z
UID:3812-1730822400-1730826000@kgrenyuk.nadi.my
SUMMARY:Aktiviti Atas Talian (Istimewa November)
DESCRIPTION:
URL:https://kgrenyuk.nadi.my/event/aktiviti-atas-talian-istimewa-november/
LOCATION:NADI Kg Renyuk\, NADI Kg Renyuk
CATEGORIES:DEFAULT
END:VEVENT
BEGIN:VEVENT
DTSTART;TZID=UTC:20241013T160000
DTEND;TZID=UTC:20241013T170000
DTSTAMP:20260420T001105
CREATED:20240925T225904Z
LAST-MODIFIED:20240925T225904Z
UID:3811-1728835200-1728838800@kgrenyuk.nadi.my
SUMMARY:STEM
DESCRIPTION:
URL:https://kgrenyuk.nadi.my/event/stem-17/
LOCATION:NADI Kg Renyuk\, NADI Kg Renyuk
CATEGORIES:DEFAULT
END:VEVENT
BEGIN:VEVENT
DTSTART;TZID=UTC:20241012T110000
DTEND;TZID=UTC:20241012T130000
DTSTAMP:20260420T001105
CREATED:20240925T225806Z
LAST-MODIFIED:20240925T225806Z
UID:3810-1728730800-1728738000@kgrenyuk.nadi.my
SUMMARY:Aktiviti Atas Talian
DESCRIPTION:
URL:https://kgrenyuk.nadi.my/event/aktiviti-atas-talian-47/
LOCATION:NADI Kg Renyuk\, NADI Kg Renyuk
CATEGORIES:DEFAULT
END:VEVENT
BEGIN:VEVENT
DTSTART;TZID=UTC:20241007T080000
DTEND;TZID=UTC:20241007T170000
DTSTAMP:20260420T001105
CREATED:20240925T225717Z
LAST-MODIFIED:20240925T225717Z
UID:3809-1728288000-1728320400@kgrenyuk.nadi.my
SUMMARY:STEM
DESCRIPTION:
URL:https://kgrenyuk.nadi.my/event/stem-16/
LOCATION:NADI Kg Renyuk\, NADI Kg Renyuk
CATEGORIES:DEFAULT
END:VEVENT
BEGIN:VEVENT
DTSTART;TZID=UTC:20241005T110000
DTEND;TZID=UTC:20241005T120000
DTSTAMP:20260420T001105
CREATED:20240925T225627Z
LAST-MODIFIED:20240925T225627Z
UID:3808-1728126000-1728129600@kgrenyuk.nadi.my
SUMMARY:Kuiz Atas Talian (Istimewa Oktober)
DESCRIPTION:
URL:https://kgrenyuk.nadi.my/event/kuiz-atas-talian-istimewa-oktober-3/
LOCATION:NADI Kg Renyuk\, NADI Kg Renyuk
CATEGORIES:DEFAULT
END:VEVENT
BEGIN:VEVENT
DTSTART;TZID=UTC:20240927T110000
DTEND;TZID=UTC:20240927T120000
DTSTAMP:20260420T001105
CREATED:20240823T200049Z
LAST-MODIFIED:20240823T200049Z
UID:3807-1727434800-1727438400@kgrenyuk.nadi.my
SUMMARY:Kuiz Atas Talian (Istimewa Hari Keputeraan Sultan Kelantan)
DESCRIPTION:
URL:https://kgrenyuk.nadi.my/event/kuiz-atas-talian-istimewa-hari-keputeraan-sultan-kelantan/
LOCATION:NADI Kg Renyuk\, NADI Kg Renyuk
CATEGORIES:DEFAULT
END:VEVENT
BEGIN:VEVENT
DTSTART;TZID=UTC:20240920T160000
DTEND;TZID=UTC:20240920T170000
DTSTAMP:20260420T001105
CREATED:20240823T195950Z
LAST-MODIFIED:20240823T195950Z
UID:3806-1726848000-1726851600@kgrenyuk.nadi.my
SUMMARY:Kuiz Atas Talian (Istimewa Hari Malaysia)
DESCRIPTION:
URL:https://kgrenyuk.nadi.my/event/kuiz-atas-talian-istimewa-hari-malaysia-2/
LOCATION:NADI Kg Renyuk\, NADI Kg Renyuk
CATEGORIES:DEFAULT
END:VEVENT
BEGIN:VEVENT
DTSTART;TZID=UTC:20240913T150000
DTEND;TZID=UTC:20240913T160000
DTSTAMP:20260420T001105
CREATED:20240823T195911Z
LAST-MODIFIED:20240823T195911Z
UID:3805-1726239600-1726243200@kgrenyuk.nadi.my
SUMMARY:STEM
DESCRIPTION:
URL:https://kgrenyuk.nadi.my/event/stem-15/
LOCATION:NADI Kg Renyuk\, NADI Kg Renyuk
CATEGORIES:DEFAULT
END:VEVENT
BEGIN:VEVENT
DTSTART;TZID=UTC:20240912T160000
DTEND;TZID=UTC:20240912T170000
DTSTAMP:20260420T001105
CREATED:20240823T195843Z
LAST-MODIFIED:20240823T195843Z
UID:3804-1726156800-1726160400@kgrenyuk.nadi.my
SUMMARY:Aktiviti Atas Talian
DESCRIPTION:
URL:https://kgrenyuk.nadi.my/event/aktiviti-atas-talian-46/
LOCATION:NADI Kg Renyuk\, NADI Kg Renyuk
CATEGORIES:DEFAULT
END:VEVENT
BEGIN:VEVENT
DTSTART;TZID=UTC:20240907T110000
DTEND;TZID=UTC:20240907T120000
DTSTAMP:20260420T001105
CREATED:20240823T195812Z
LAST-MODIFIED:20240823T195812Z
UID:3803-1725706800-1725710400@kgrenyuk.nadi.my
SUMMARY:STEM / IoT
DESCRIPTION:
URL:https://kgrenyuk.nadi.my/event/stem-iot-5/
LOCATION:NADI Kg Renyuk\, NADI Kg Renyuk
CATEGORIES:DEFAULT
END:VEVENT
BEGIN:VEVENT
DTSTART;TZID=UTC:20240905T150000
DTEND;TZID=UTC:20240905T160000
DTSTAMP:20260420T001105
CREATED:20240823T195744Z
LAST-MODIFIED:20240823T195744Z
UID:3802-1725548400-1725552000@kgrenyuk.nadi.my
SUMMARY:Aktiviti Atas Talian (Istimewa September)
DESCRIPTION:
URL:https://kgrenyuk.nadi.my/event/aktiviti-atas-talian-istimewa-september/
LOCATION:NADI Kg Renyuk\, NADI Kg Renyuk
CATEGORIES:DEFAULT
END:VEVENT
BEGIN:VEVENT
DTSTART;TZID=UTC:20240830T100000
DTEND;TZID=UTC:20240830T110000
DTSTAMP:20260420T001105
CREATED:20240725T174217Z
LAST-MODIFIED:20240725T174217Z
UID:3801-1725012000-1725015600@kgrenyuk.nadi.my
SUMMARY:Aktiviti Atas Talian (Istimewa Merdeka 67)
DESCRIPTION:
URL:https://kgrenyuk.nadi.my/event/aktiviti-atas-talian-istimewa-merdeka-67/
LOCATION:NADI Kg Renyuk\, NADI Kg Renyuk
CATEGORIES:DEFAULT
END:VEVENT
BEGIN:VEVENT
DTSTART;TZID=UTC:20240823T110000
DTEND;TZID=UTC:20240823T120000
DTSTAMP:20260420T001105
CREATED:20240725T174127Z
LAST-MODIFIED:20240725T174127Z
UID:3800-1724410800-1724414400@kgrenyuk.nadi.my
SUMMARY:STEM
DESCRIPTION:
URL:https://kgrenyuk.nadi.my/event/stem-14/
LOCATION:NADI Kg Renyuk\, NADI Kg Renyuk
CATEGORIES:DEFAULT
END:VEVENT
BEGIN:VEVENT
DTSTART;TZID=UTC:20240818T160000
DTEND;TZID=UTC:20240818T170000
DTSTAMP:20260420T001105
CREATED:20240725T174059Z
LAST-MODIFIED:20240725T174059Z
UID:3799-1723996800-1724000400@kgrenyuk.nadi.my
SUMMARY:Aktiviti Atas Talian
DESCRIPTION:
URL:https://kgrenyuk.nadi.my/event/aktiviti-atas-talian-45/
LOCATION:NADI Kg Renyuk\, NADI Kg Renyuk
CATEGORIES:DEFAULT
END:VEVENT
BEGIN:VEVENT
DTSTART;TZID=UTC:20240811T160000
DTEND;TZID=UTC:20240811T170000
DTSTAMP:20260420T001105
CREATED:20240725T174030Z
LAST-MODIFIED:20240725T174030Z
UID:3798-1723392000-1723395600@kgrenyuk.nadi.my
SUMMARY:Kuiz Atas Talian (Istimewa Ogos)
DESCRIPTION:
URL:https://kgrenyuk.nadi.my/event/kuiz-atas-talian-istimewa-ogos/
LOCATION:NADI Kg Renyuk\, NADI Kg Renyuk
CATEGORIES:DEFAULT
END:VEVENT
BEGIN:VEVENT
DTSTART;TZID=UTC:20240803T100000
DTEND;TZID=UTC:20240803T110000
DTSTAMP:20260420T001105
CREATED:20240725T173929Z
LAST-MODIFIED:20240725T173929Z
UID:3797-1722679200-1722682800@kgrenyuk.nadi.my
SUMMARY:Aktiviti Atas Talian
DESCRIPTION:
URL:https://kgrenyuk.nadi.my/event/aktiviti-atas-talian-44/
LOCATION:NADI Kg Renyuk\, NADI Kg Renyuk
CATEGORIES:DEFAULT
END:VEVENT
BEGIN:VEVENT
DTSTART;TZID=UTC:20240801T160000
DTEND;TZID=UTC:20240801T170000
DTSTAMP:20260420T001105
CREATED:20240725T173903Z
LAST-MODIFIED:20240725T173903Z
UID:3796-1722528000-1722531600@kgrenyuk.nadi.my
SUMMARY:STEM
DESCRIPTION:
URL:https://kgrenyuk.nadi.my/event/stem-13/
LOCATION:NADI Kg Renyuk\, NADI Kg Renyuk
CATEGORIES:DEFAULT
END:VEVENT
BEGIN:VEVENT
DTSTART;TZID=UTC:20240727T100000
DTEND;TZID=UTC:20240727T120000
DTSTAMP:20260420T001105
CREATED:20240625T220944Z
LAST-MODIFIED:20240625T220944Z
UID:3795-1722074400-1722081600@kgrenyuk.nadi.my
SUMMARY:Kuiz Atas Talian (Istimewa Julai)
DESCRIPTION:
URL:https://kgrenyuk.nadi.my/event/kuiz-atas-talian-istimewa-julai/
LOCATION:NADI Kg Renyuk\, NADI Kg Renyuk
CATEGORIES:DEFAULT
END:VEVENT
END:VCALENDAR