BEGIN:VCALENDAR
VERSION:2.0
PRODID:-//NADI Kg Renyuk - ECPv6.15.13.1//NONSGML v1.0//EN
CALSCALE:GREGORIAN
METHOD:PUBLISH
X-WR-CALNAME:NADI Kg Renyuk
X-ORIGINAL-URL:https://kgrenyuk.nadi.my
X-WR-CALDESC:Events for NADI Kg Renyuk
REFRESH-INTERVAL;VALUE=DURATION:PT1H
X-Robots-Tag:noindex
X-PUBLISHED-TTL:PT1H
BEGIN:VTIMEZONE
TZID:UTC
BEGIN:STANDARD
TZOFFSETFROM:+0000
TZOFFSETTO:+0000
TZNAME:UTC
DTSTART:20230101T000000
END:STANDARD
END:VTIMEZONE
BEGIN:VEVENT
DTSTART;TZID=UTC:20240621T160000
DTEND;TZID=UTC:20240621T170000
DTSTAMP:20260423T010104
CREATED:20240525T180252Z
LAST-MODIFIED:20240525T180252Z
UID:3787-1718985600-1718989200@kgrenyuk.nadi.my
SUMMARY:STEM / IoT
DESCRIPTION:
URL:https://kgrenyuk.nadi.my/event/stem-iot-3/
LOCATION:NADI Kg Renyuk\, NADI Kg Renyuk
CATEGORIES:DEFAULT
END:VEVENT
BEGIN:VEVENT
DTSTART;TZID=UTC:20240614T110000
DTEND;TZID=UTC:20240614T120000
DTSTAMP:20260423T010104
CREATED:20240525T180218Z
LAST-MODIFIED:20240525T180218Z
UID:3786-1718362800-1718366400@kgrenyuk.nadi.my
SUMMARY:Kuiz Atas Talian (Istimewa Aidiladha)
DESCRIPTION:
URL:https://kgrenyuk.nadi.my/event/kuiz-atas-talian-istimewa-aidiladha-2/
LOCATION:NADI Kg Renyuk\, NADI Kg Renyuk
CATEGORIES:DEFAULT
END:VEVENT
BEGIN:VEVENT
DTSTART;TZID=UTC:20240605T160000
DTEND;TZID=UTC:20240605T170000
DTSTAMP:20260423T010104
CREATED:20240525T180036Z
LAST-MODIFIED:20240525T180036Z
UID:3785-1717603200-1717606800@kgrenyuk.nadi.my
SUMMARY:STEM / IoT
DESCRIPTION:
URL:https://kgrenyuk.nadi.my/event/stem-iot-2/
LOCATION:NADI Kg Renyuk\, NADI Kg Renyuk
CATEGORIES:DEFAULT
END:VEVENT
BEGIN:VEVENT
DTSTART;TZID=UTC:20240601T110000
DTEND;TZID=UTC:20240601T120000
DTSTAMP:20260423T010104
CREATED:20240525T175959Z
LAST-MODIFIED:20240525T175959Z
UID:3784-1717239600-1717243200@kgrenyuk.nadi.my
SUMMARY:STEM / IoT
DESCRIPTION:
URL:https://kgrenyuk.nadi.my/event/stem-iot/
LOCATION:NADI Kg Renyuk\, NADI Kg Renyuk
CATEGORIES:DEFAULT
END:VEVENT
BEGIN:VEVENT
DTSTART;TZID=UTC:20240525T160000
DTEND;TZID=UTC:20240525T170000
DTSTAMP:20260423T010104
CREATED:20240426T181227Z
LAST-MODIFIED:20240426T181227Z
UID:3783-1716652800-1716656400@kgrenyuk.nadi.my
SUMMARY:Aktiviti Atas Talian
DESCRIPTION:
URL:https://kgrenyuk.nadi.my/event/aktiviti-atas-talian-39/
LOCATION:NADI Kg Renyuk\, NADI Kg Renyuk
CATEGORIES:DEFAULT
END:VEVENT
BEGIN:VEVENT
DTSTART;TZID=UTC:20240518T160000
DTEND;TZID=UTC:20240518T170000
DTSTAMP:20260423T010104
CREATED:20240426T181149Z
LAST-MODIFIED:20240426T181149Z
UID:3782-1716048000-1716051600@kgrenyuk.nadi.my
SUMMARY:STEM
DESCRIPTION:
URL:https://kgrenyuk.nadi.my/event/stem-11/
LOCATION:NADI Kg Renyuk\, NADI Kg Renyuk
CATEGORIES:DEFAULT
END:VEVENT
BEGIN:VEVENT
DTSTART;TZID=UTC:20240517T110000
DTEND;TZID=UTC:20240517T120000
DTSTAMP:20260423T010104
CREATED:20240426T181055Z
LAST-MODIFIED:20240426T181055Z
UID:3781-1715943600-1715947200@kgrenyuk.nadi.my
SUMMARY:Kuiz Atas Talian (Istimewa Hari Wesak)
DESCRIPTION:
URL:https://kgrenyuk.nadi.my/event/kuiz-atas-talian-istimewa-hari-wesak/
LOCATION:NADI Kg Renyuk\, NADI Kg Renyuk
CATEGORIES:DEFAULT
END:VEVENT
BEGIN:VEVENT
DTSTART;TZID=UTC:20240506T160000
DTEND;TZID=UTC:20240506T170000
DTSTAMP:20260423T010104
CREATED:20240426T181002Z
LAST-MODIFIED:20240426T181002Z
UID:3780-1715011200-1715014800@kgrenyuk.nadi.my
SUMMARY:E-Learning
DESCRIPTION:
URL:https://kgrenyuk.nadi.my/event/e-learning-84/
LOCATION:NADI Kg Renyuk\, NADI Kg Renyuk
CATEGORIES:DEFAULT
END:VEVENT
BEGIN:VEVENT
DTSTART;TZID=UTC:20240504T100000
DTEND;TZID=UTC:20240504T120000
DTSTAMP:20260423T010104
CREATED:20240426T180857Z
LAST-MODIFIED:20240426T180857Z
UID:3778-1714816800-1714824000@kgrenyuk.nadi.my
SUMMARY:Aktiviti Atas Talian
DESCRIPTION:
URL:https://kgrenyuk.nadi.my/event/aktiviti-atas-talian-38/
LOCATION:NADI Kg Renyuk\, NADI Kg Renyuk
CATEGORIES:DEFAULT
END:VEVENT
BEGIN:VEVENT
DTSTART;TZID=UTC:20240503T160000
DTEND;TZID=UTC:20240503T170000
DTSTAMP:20260423T010104
CREATED:20240426T180928Z
LAST-MODIFIED:20240426T180928Z
UID:3779-1714752000-1714755600@kgrenyuk.nadi.my
SUMMARY:STEM
DESCRIPTION:
URL:https://kgrenyuk.nadi.my/event/stem-10/
LOCATION:NADI Kg Renyuk\, NADI Kg Renyuk
CATEGORIES:DEFAULT
END:VEVENT
BEGIN:VEVENT
DTSTART;TZID=UTC:20240426T100000
DTEND;TZID=UTC:20240426T120000
DTSTAMP:20260423T010104
CREATED:20240328T175747Z
LAST-MODIFIED:20240328T175747Z
UID:3777-1714125600-1714132800@kgrenyuk.nadi.my
SUMMARY:Aktiviti Sempena Hari Raya Aidilfitri
DESCRIPTION:
URL:https://kgrenyuk.nadi.my/event/aktiviti-sempena-hari-raya-aidilfitri/
LOCATION:NADI Kg Renyuk\, NADI Kg Renyuk
CATEGORIES:DEFAULT
END:VEVENT
BEGIN:VEVENT
DTSTART;TZID=UTC:20240419T160000
DTEND;TZID=UTC:20240419T170000
DTSTAMP:20260423T010104
CREATED:20240328T175647Z
LAST-MODIFIED:20240328T175647Z
UID:3776-1713542400-1713546000@kgrenyuk.nadi.my
SUMMARY:STEM
DESCRIPTION:
URL:https://kgrenyuk.nadi.my/event/stem-9/
LOCATION:NADI Kg Renyuk\, NADI Kg Renyuk
CATEGORIES:DEFAULT
END:VEVENT
BEGIN:VEVENT
DTSTART;TZID=UTC:20240408T100000
DTEND;TZID=UTC:20240408T170000
DTSTAMP:20260423T010104
CREATED:20240328T175604Z
LAST-MODIFIED:20240328T175604Z
UID:3775-1712570400-1712595600@kgrenyuk.nadi.my
SUMMARY:Kuiz Atas Talian (Istimewa Ramadhan)
DESCRIPTION:
URL:https://kgrenyuk.nadi.my/event/kuiz-atas-talian-istimewa-ramadhan-2/
LOCATION:Lokasi Peserta\, Lokasi Peserta
CATEGORIES:DEFAULT
END:VEVENT
BEGIN:VEVENT
DTSTART;TZID=UTC:20240406T150000
DTEND;TZID=UTC:20240406T160000
DTSTAMP:20260423T010104
CREATED:20240328T175409Z
LAST-MODIFIED:20240328T175409Z
UID:3773-1712415600-1712419200@kgrenyuk.nadi.my
SUMMARY:STEM
DESCRIPTION:
URL:https://kgrenyuk.nadi.my/event/stem-8/
LOCATION:NADI Kg Renyuk\, NADI Kg Renyuk
CATEGORIES:DEFAULT
END:VEVENT
BEGIN:VEVENT
DTSTART;TZID=UTC:20240406T100000
DTEND;TZID=UTC:20240406T120000
DTSTAMP:20260423T010104
CREATED:20240328T175443Z
LAST-MODIFIED:20240328T175443Z
UID:3774-1712397600-1712404800@kgrenyuk.nadi.my
SUMMARY:E-Learning
DESCRIPTION:
URL:https://kgrenyuk.nadi.my/event/e-learning-83/
LOCATION:NADI Kg Renyuk\, NADI Kg Renyuk
CATEGORIES:DEFAULT
END:VEVENT
BEGIN:VEVENT
DTSTART;TZID=UTC:20240405T100000
DTEND;TZID=UTC:20240405T110000
DTSTAMP:20260423T010104
CREATED:20240328T175325Z
LAST-MODIFIED:20240328T175325Z
UID:3772-1712311200-1712314800@kgrenyuk.nadi.my
SUMMARY:Kuiz Atas Talian (Istimewa Ramadan)
DESCRIPTION:
URL:https://kgrenyuk.nadi.my/event/kuiz-atas-talian-istimewa-ramadan-2/
LOCATION:NADI Kg Renyuk\, NADI Kg Renyuk
CATEGORIES:DEFAULT
END:VEVENT
BEGIN:VEVENT
DTSTART;TZID=UTC:20240329T150000
DTEND;TZID=UTC:20240329T160000
DTSTAMP:20260423T010104
CREATED:20240228T195222Z
LAST-MODIFIED:20240228T195222Z
UID:3770-1711724400-1711728000@kgrenyuk.nadi.my
SUMMARY:Kuiz Atas Talian (Istimewa Nuzul Quran)
DESCRIPTION:
URL:https://kgrenyuk.nadi.my/event/kuiz-atas-talian-istimewa-nuzul-quran/
LOCATION:PEDi Kg Renyut\, PEDi Kg Renyut
CATEGORIES:DEFAULT
END:VEVENT
BEGIN:VEVENT
DTSTART;TZID=UTC:20240322T160000
DTEND;TZID=UTC:20240322T170000
DTSTAMP:20260423T010104
CREATED:20240228T195108Z
LAST-MODIFIED:20240228T195108Z
UID:3769-1711123200-1711126800@kgrenyuk.nadi.my
SUMMARY:STEM
DESCRIPTION:
URL:https://kgrenyuk.nadi.my/event/stem-7/
LOCATION:PEDi Kg Renyut\, PEDi Kg Renyut
CATEGORIES:DEFAULT
END:VEVENT
BEGIN:VEVENT
DTSTART;TZID=UTC:20240315T100000
DTEND;TZID=UTC:20240315T120000
DTSTAMP:20260423T010104
CREATED:20240228T195015Z
LAST-MODIFIED:20240228T195015Z
UID:3768-1710496800-1710504000@kgrenyuk.nadi.my
SUMMARY:Kuiz Atas Talian (Istimewa Ramadhan)
DESCRIPTION:
URL:https://kgrenyuk.nadi.my/event/kuiz-atas-talian-istimewa-ramadhan/
LOCATION:Lokasi Peserta\, Lokasi Peserta
CATEGORIES:DEFAULT
END:VEVENT
BEGIN:VEVENT
DTSTART;TZID=UTC:20240309T150000
DTEND;TZID=UTC:20240309T170000
DTSTAMP:20260423T010104
CREATED:20240228T194844Z
LAST-MODIFIED:20240228T194844Z
UID:3767-1709996400-1710003600@kgrenyuk.nadi.my
SUMMARY:E-Learning
DESCRIPTION:
URL:https://kgrenyuk.nadi.my/event/e-learning-82/
LOCATION:PEDi Kg Renyut\, PEDi Kg Renyut
CATEGORIES:DEFAULT
END:VEVENT
BEGIN:VEVENT
DTSTART;TZID=UTC:20240307T160000
DTEND;TZID=UTC:20240307T170000
DTSTAMP:20260423T010104
CREATED:20240228T194806Z
LAST-MODIFIED:20240228T194806Z
UID:3766-1709827200-1709830800@kgrenyuk.nadi.my
SUMMARY:STEM
DESCRIPTION:
URL:https://kgrenyuk.nadi.my/event/stem-6/
LOCATION:PEDi Kg Renyut\, PEDi Kg Renyut
CATEGORIES:DEFAULT
END:VEVENT
BEGIN:VEVENT
DTSTART;TZID=UTC:20240303T100000
DTEND;TZID=UTC:20240303T120000
DTSTAMP:20260423T010104
CREATED:20240228T194728Z
LAST-MODIFIED:20240228T194728Z
UID:3765-1709460000-1709467200@kgrenyuk.nadi.my
SUMMARY:Aktiviti Atas Talian
DESCRIPTION:
URL:https://kgrenyuk.nadi.my/event/aktiviti-atas-talian-37/
LOCATION:PEDi Kg Renyut\, PEDi Kg Renyut
CATEGORIES:DEFAULT
END:VEVENT
BEGIN:VEVENT
DTSTART;TZID=UTC:20240226T030000
DTEND;TZID=UTC:20240226T160000
DTSTAMP:20260423T010104
CREATED:20240131T175520Z
LAST-MODIFIED:20240131T175520Z
UID:3764-1708916400-1708963200@kgrenyuk.nadi.my
SUMMARY:Kuiz Atas Talian (Istimewa Februari)
DESCRIPTION:
URL:https://kgrenyuk.nadi.my/event/kuiz-atas-talian-istimewa-februari/
LOCATION:Lokasi Peserta\, Lokasi Peserta
CATEGORIES:DEFAULT
END:VEVENT
BEGIN:VEVENT
DTSTART;TZID=UTC:20240224T110000
DTEND;TZID=UTC:20240224T120000
DTSTAMP:20260423T010104
CREATED:20240131T175417Z
LAST-MODIFIED:20240131T175417Z
UID:3763-1708772400-1708776000@kgrenyuk.nadi.my
SUMMARY:E-Learning
DESCRIPTION:
URL:https://kgrenyuk.nadi.my/event/e-learning-81/
LOCATION:PEDi Kg Renyut\, PEDi Kg Renyut
CATEGORIES:DEFAULT
END:VEVENT
BEGIN:VEVENT
DTSTART;TZID=UTC:20240216T153000
DTEND;TZID=UTC:20240216T163000
DTSTAMP:20260423T010104
CREATED:20240131T175342Z
LAST-MODIFIED:20240131T175342Z
UID:3762-1708097400-1708101000@kgrenyuk.nadi.my
SUMMARY:Kuiz Atas Talian (Istimewa Isra' Mikraj)
DESCRIPTION:
URL:https://kgrenyuk.nadi.my/event/kuiz-atas-talian-istimewa-isra-mikraj/
LOCATION:PEDi Kg Renyut\, PEDi Kg Renyut
CATEGORIES:DEFAULT
END:VEVENT
BEGIN:VEVENT
DTSTART;TZID=UTC:20240212T150000
DTEND;TZID=UTC:20240212T160000
DTSTAMP:20260423T010104
CREATED:20240131T175234Z
LAST-MODIFIED:20240131T175234Z
UID:3761-1707750000-1707753600@kgrenyuk.nadi.my
SUMMARY:STEM
DESCRIPTION:
URL:https://kgrenyuk.nadi.my/event/stem-5/
LOCATION:PEDi Kg Renyut\, PEDi Kg Renyut
CATEGORIES:DEFAULT
END:VEVENT
BEGIN:VEVENT
DTSTART;TZID=UTC:20240207T153000
DTEND;TZID=UTC:20240207T163000
DTSTAMP:20260423T010104
CREATED:20240131T175155Z
LAST-MODIFIED:20240131T175155Z
UID:3760-1707319800-1707323400@kgrenyuk.nadi.my
SUMMARY:Kuiz Atas Talian (Istimewa Tahun Baru Cina)
DESCRIPTION:
URL:https://kgrenyuk.nadi.my/event/kuiz-atas-talian-istimewa-tahun-baru-cina/
LOCATION:PEDi Kg Renyut\, PEDi Kg Renyut
CATEGORIES:DEFAULT
END:VEVENT
BEGIN:VEVENT
DTSTART;TZID=UTC:20240204T160000
DTEND;TZID=UTC:20240204T170000
DTSTAMP:20260423T010104
CREATED:20240131T174915Z
LAST-MODIFIED:20240131T174915Z
UID:3759-1707062400-1707066000@kgrenyuk.nadi.my
SUMMARY:Aktiviti Atas Talian
DESCRIPTION:
URL:https://kgrenyuk.nadi.my/event/aktiviti-atas-talian-36/
LOCATION:PEDi Kg Renyut\, PEDi Kg Renyut
CATEGORIES:DEFAULT
END:VEVENT
BEGIN:VEVENT
DTSTART;TZID=UTC:20240126T100000
DTEND;TZID=UTC:20240126T180000
DTSTAMP:20260423T010104
CREATED:20231227T173443Z
LAST-MODIFIED:20231227T173443Z
UID:3758-1706263200-1706292000@kgrenyuk.nadi.my
SUMMARY:Kuiz Atas Talian (Istimewa Januari)
DESCRIPTION:
URL:https://kgrenyuk.nadi.my/event/kuiz-atas-talian-istimewa-januari/
LOCATION:Lokasi Peserta\, Lokasi Peserta
CATEGORIES:DEFAULT
END:VEVENT
BEGIN:VEVENT
DTSTART;TZID=UTC:20240119T100000
DTEND;TZID=UTC:20240119T120000
DTSTAMP:20260423T010104
CREATED:20231227T173346Z
LAST-MODIFIED:20231227T173346Z
UID:3757-1705658400-1705665600@kgrenyuk.nadi.my
SUMMARY:E-Learning
DESCRIPTION:
URL:https://kgrenyuk.nadi.my/event/e-learning-80/
LOCATION:PEDi Kg Renyut\, PEDi Kg Renyut
CATEGORIES:DEFAULT
END:VEVENT
END:VCALENDAR